BEGIN:VCALENDAR
VERSION:2.0
PRODID:-//Friedman Hospitality Group - ECPv6.15.17//NONSGML v1.0//EN
CALSCALE:GREGORIAN
METHOD:PUBLISH
X-WR-CALNAME:Friedman Hospitality Group
X-ORIGINAL-URL:https://friedmanhospitalitygroup.com
X-WR-CALDESC:Events for Friedman Hospitality Group
REFRESH-INTERVAL;VALUE=DURATION:PT1H
X-Robots-Tag:noindex
X-PUBLISHED-TTL:PT1H
BEGIN:VTIMEZONE
TZID:America/New_York
BEGIN:DAYLIGHT
TZOFFSETFROM:-0500
TZOFFSETTO:-0400
TZNAME:EDT
DTSTART:20250309T070000
END:DAYLIGHT
BEGIN:STANDARD
TZOFFSETFROM:-0400
TZOFFSETTO:-0500
TZNAME:EST
DTSTART:20251102T060000
END:STANDARD
BEGIN:DAYLIGHT
TZOFFSETFROM:-0500
TZOFFSETTO:-0400
TZNAME:EDT
DTSTART:20260308T070000
END:DAYLIGHT
BEGIN:STANDARD
TZOFFSETFROM:-0400
TZOFFSETTO:-0500
TZNAME:EST
DTSTART:20261101T060000
END:STANDARD
BEGIN:DAYLIGHT
TZOFFSETFROM:-0500
TZOFFSETTO:-0400
TZNAME:EDT
DTSTART:20270314T070000
END:DAYLIGHT
BEGIN:STANDARD
TZOFFSETFROM:-0400
TZOFFSETTO:-0500
TZNAME:EST
DTSTART:20271107T060000
END:STANDARD
END:VTIMEZONE
BEGIN:VEVENT
DTSTART;TZID=America/New_York:20260428T170000
DTEND;TZID=America/New_York:20260428T190000
DTSTAMP:20260424T091937
CREATED:20260325T204800Z
LAST-MODIFIED:20260424T012814Z
UID:9294-1777395600-1777402800@friedmanhospitalitygroup.com
SUMMARY:Margs on the Deck
DESCRIPTION:Turn your Tuesdays into a rooftop escape 🍹✨Join us at Rikasa this April for Margs on the Deck Happy Hour from 5–7pm! \nSip your way through $10 handcrafted margaritas\, featuring bold and refreshing flavors like Cucumber Jalapeño\, Garlic Dill Pickle\, Spicy Mango\, Pineapple\, Coconut\, or keep it classic with a Regular or Skinny marg. \n✨ New featured margarita every week to keep things fresh & exciting ✨ \nGrab your friends\, soak in the views\, and let the margaritas do the talking. Cheers to Tuesdays done right 🌅🍸
URL:https://friedmanhospitalitygroup.com/event/margs-on-the-deck-12/
CATEGORIES:Rikasa Restaurant,Roof Top 53
ATTACH;FMTTYPE=image/png:https://friedmanhospitalitygroup.com/wp-content/uploads/2026/03/Margs-on-the-Deck-2-pv0I95.png
END:VEVENT
BEGIN:VEVENT
DTSTART;TZID=America/New_York:20260429T170000
DTEND;TZID=America/New_York:20260429T203000
DTSTAMP:20260424T091937
CREATED:20260325T204800Z
LAST-MODIFIED:20260424T012814Z
UID:9295-1777482000-1777494600@friedmanhospitalitygroup.com
SUMMARY:Rikasa’s Date Night
DESCRIPTION:Make your midweek plans something special ✨Rikasa’s Date Night is continuing into April—now every Wednesday! \nFor $65 per couple\, enjoy a thoughtfully curated dining experience featuring a shared starter\, your choice of entrées\, and a shared dessert to end the evening on a sweet note. \nWhether you’re celebrating\, reconnecting\, or just looking for the perfect night out\, Date Night at Rikasa offers the ideal setting for a memorable evening. \nReservations are strongly recommended.
URL:https://friedmanhospitalitygroup.com/event/rikasas-date-night-8/
CATEGORIES:Rikasa Restaurant,Roof Top 53
ATTACH;FMTTYPE=image/png:https://friedmanhospitalitygroup.com/wp-content/uploads/2026/03/Pink-Light-Blue-and-Green-Illustrated-Spring-Lunch-Menu-ybWKgj.png
END:VEVENT
BEGIN:VEVENT
DTSTART;TZID=America/New_York:20260430T170000
DTEND;TZID=America/New_York:20260430T203000
DTSTAMP:20260424T091937
CREATED:20260325T204800Z
LAST-MODIFIED:20260424T012814Z
UID:9296-1777568400-1777581000@friedmanhospitalitygroup.com
SUMMARY:Ladies Night
DESCRIPTION:Grab your girls… it’s time for Ladies Night at Rikasa 💋✨Join us every Thursday for a night full of cocktails\, bites\, and all the good vibes. \nSip on featured favorites like our Pickle Margarita\, Espresso Tini\, or a classic Cosmo 🍸Pair it with shareable plates like Hot Buns\, “Fries Before Guys\,” and pasta that’s as unbothered as you are. \nWhether you’re catching up\, celebrating\, or just need a night out—this is your excuse 💅Good drinks. Great food. Even better company. \nThursdays just got a whole lot more fun 💖
URL:https://friedmanhospitalitygroup.com/event/ladies-night-5/
CATEGORIES:Rikasa Restaurant,Roof Top 53
ATTACH;FMTTYPE=image/png:https://friedmanhospitalitygroup.com/wp-content/uploads/2026/03/IMG_9807-wBRdBK.png
END:VEVENT
END:VCALENDAR