BEGIN:VCALENDAR
VERSION:2.0
PRODID:-//Friedman Hospitality Group - ECPv6.15.17//NONSGML v1.0//EN
CALSCALE:GREGORIAN
METHOD:PUBLISH
X-ORIGINAL-URL:https://friedmanhospitalitygroup.com
X-WR-CALDESC:Events for Friedman Hospitality Group
REFRESH-INTERVAL;VALUE=DURATION:PT1H
X-Robots-Tag:noindex
X-PUBLISHED-TTL:PT1H
BEGIN:VTIMEZONE
TZID:America/New_York
BEGIN:DAYLIGHT
TZOFFSETFROM:-0500
TZOFFSETTO:-0400
TZNAME:EDT
DTSTART:20250309T070000
END:DAYLIGHT
BEGIN:STANDARD
TZOFFSETFROM:-0400
TZOFFSETTO:-0500
TZNAME:EST
DTSTART:20251102T060000
END:STANDARD
BEGIN:DAYLIGHT
TZOFFSETFROM:-0500
TZOFFSETTO:-0400
TZNAME:EDT
DTSTART:20260308T070000
END:DAYLIGHT
BEGIN:STANDARD
TZOFFSETFROM:-0400
TZOFFSETTO:-0500
TZNAME:EST
DTSTART:20261101T060000
END:STANDARD
BEGIN:DAYLIGHT
TZOFFSETFROM:-0500
TZOFFSETTO:-0400
TZNAME:EDT
DTSTART:20270314T070000
END:DAYLIGHT
BEGIN:STANDARD
TZOFFSETFROM:-0400
TZOFFSETTO:-0500
TZNAME:EST
DTSTART:20271107T060000
END:STANDARD
END:VTIMEZONE
BEGIN:VEVENT
DTSTART;TZID=America/New_York:20260424T200000
DTEND;TZID=America/New_York:20260424T233000
DTSTAMP:20260424T092642
CREATED:20260330T155737Z
LAST-MODIFIED:20260330T155737Z
UID:9332-1777060800-1777073400@friedmanhospitalitygroup.com
SUMMARY:River Street Jazz Cafe - Natalie Brook
DESCRIPTION:April 24\, 2026\nFriday\, April 24th 2026 Natalie Brook will be performing at The Jazz w/Big Blitz!! \n  \n\nDOORS OPEN AT 8:00PM\nTICKETS ARE $12 IN ADVANCE & $15 DAY OF SHOW AND CAN BE PURCHASED AT THE LINK BELOW\nPlease Note\, online ticket sales end 24 hours before doors open. Unless a show is listed as “sold out”\, tickets can be purchased at the door.\nYOU MUST BE 21 YEARS OR OLDER TO ATTEND.\n\n  \nBuy Tickets
URL:https://friedmanhospitalitygroup.com/event/river-street-jazz-cafe-natalie-brook/
LOCATION:River Street Jazz Cafe\, Cross Valley Center 667 S. River St.\, Plains\, PA\, 18705\, United States
CATEGORIES:Live Music,River Street Jazz Cafe
ATTACH;FMTTYPE=image/jpeg:https://friedmanhospitalitygroup.com/wp-content/uploads/2026/03/IMG_1250.jpg
END:VEVENT
BEGIN:VEVENT
DTSTART;TZID=America/New_York:20260424T200000
DTEND;TZID=America/New_York:20260424T233000
DTSTAMP:20260424T092642
CREATED:20260415T135254Z
LAST-MODIFIED:20260415T135254Z
UID:9521-1777060800-1777073400@friedmanhospitalitygroup.com
SUMMARY:River Street Jazz Cafe - Natalie Brook
DESCRIPTION:DOORS OPEN AT 8:00PM \nTICKETS ARE $12 IN ADVANCE & $15 DAY OF SHOW AND CAN BE PURCHASED AT THE LINK BELOW \nPlease Note\, online ticket sales end 24 hours before doors open. Unless a show is listed as “sold out”\, tickets can be purchased at the door. \nhttps://tickets.holdmyticket.com/tickets/459332 \nNatalie Brooke is a rock star. A virtuoso funk / rock keys player leading her powerhouse 4-piece band from the Baltimore area. \nThe explosive act is fronted by Natalie on keys\, synth\, keytar\, and vocals and backed by drummer Nathan Shulkin\, Nester on the bass\, and Luke Walker on the guitar. \nYOU MUST BE 21 YEARS OR OLDER TO ATTEND.
URL:https://friedmanhospitalitygroup.com/event/river-street-jazz-cafe-natalie-brook-2/
LOCATION:River Street Jazz Cafe\, Cross Valley Center 667 S. River St.\, Plains\, PA\, 18705\, United States
CATEGORIES:Live Music,River Street Jazz Cafe
ATTACH;FMTTYPE=image/jpeg:https://friedmanhospitalitygroup.com/wp-content/uploads/2026/04/IMG_1543.jpg
END:VEVENT
BEGIN:VEVENT
DTSTART;TZID=America/New_York:20260426T143000
DTEND;TZID=America/New_York:20260426T173000
DTSTAMP:20260424T092642
CREATED:20260330T160153Z
LAST-MODIFIED:20260330T160153Z
UID:9334-1777213800-1777224600@friedmanhospitalitygroup.com
SUMMARY:River Street Jazz Cafe - Benefit for Heidi
DESCRIPTION:April 26\, 2026\nSunday\, April 26th 2026 Come help us support our dear friend Heidi as she recovers from brain surgery. Heidi has been recovering from surgery since January and is not able to work. The bills are piling up and we need to help her along until she’s able to get back to her normal self jumping off buildings\, getting hit by cars and doing amazing fight scenes in the movies we all watch. Suggested donation $20. There will be raffle baskets\, 50/50’s and prizes! 3 amazing bands on the bill playing everything from country to hard rock! Music by Gracie Sinclair\, Candle in the Dark and the amazing Dustin Douglas and the Electric Gentlemen! \n  \n\nDOORS OPEN AT 2:30PM\nTICKETS ARE $20 RECCOMENDED DONATIONATION AND CAN BE PURCHASED AT THE LINK BELOW\nPlease Note\, online ticket sales end 24 hours before doors open. Unless a show is listed as “sold out”\, tickets can be purchased at the door.\nYOU MUST BE 21 YEARS OR OLDER TO ATTEND.\n\n  \nBuy Tickets
URL:https://friedmanhospitalitygroup.com/event/river-street-jazz-cafe-benefit-for-heidi/
LOCATION:River Street Jazz Cafe\, Cross Valley Center 667 S. River St.\, Plains\, PA\, 18705\, United States
CATEGORIES:Live Music,River Street Jazz Cafe
ATTACH;FMTTYPE=image/png:https://friedmanhospitalitygroup.com/wp-content/uploads/2026/03/flyer-4-26-2026.png
END:VEVENT
BEGIN:VEVENT
DTSTART;TZID=America/New_York:20260501T190000
DTEND;TZID=America/New_York:20260501T230000
DTSTAMP:20260424T092642
CREATED:20260309T182709Z
LAST-MODIFIED:20260309T182944Z
UID:9121-1777662000-1777676400@friedmanhospitalitygroup.com
SUMMARY:River Street Jazz Cafe - Strawberry Jam 40th Anniversary
DESCRIPTION:Friday\, May 1st 2026 Join us for the rescheduled Strawberry Jam – 40th Anniversary/Reunion Show at The Jazz!!! \n  \n\nDOORS OPEN AT 7:00PM\nTICKETS ARE $10 IN ADVANCE & $15 DAY OF SHOW AND CAN BE PURCHASED AT THE LINK BELOW\nPlease Note\, online ticket sales end 24 hours before doors open. Unless a show is listed as “sold out”\, tickets can be purchased at the door.\nYOU MUST BE 21 YEARS OR OLDER TO ATTEND.\n\n  \nBuy Tickets
URL:https://friedmanhospitalitygroup.com/event/river-street-jazz-cafe-strawberry-jam-40th-anniversary/
LOCATION:River Street Jazz Cafe\, Cross Valley Center 667 S. River St.\, Plains\, PA\, 18705\, United States
CATEGORIES:Live Music,River Street Jazz Cafe
ATTACH;FMTTYPE=image/jpeg:https://friedmanhospitalitygroup.com/wp-content/uploads/2026/03/IMG_9934.jpg
END:VEVENT
BEGIN:VEVENT
DTSTART;TZID=America/New_York:20260516T200000
DTEND;TZID=America/New_York:20260516T230000
DTSTAMP:20260424T092642
CREATED:20260309T183218Z
LAST-MODIFIED:20260309T183225Z
UID:9124-1778961600-1778972400@friedmanhospitalitygroup.com
SUMMARY:River Street Jazz Cafe - Big Shrimp
DESCRIPTION:DOORS OPEN AT 8:00PM\nTICKETS ARE $20 IN ADVANCE & $25 DAY OF SHOW AND CAN BE PURCHASED AT THE LINK BELOW\nPlease Note\, online ticket sales end 24 hours before doors open. Unless a show is listed as “sold out”\, tickets can be purchased at the door.\nYOU MUST BE 21 YEARS OR OLDER TO ATTEND.\n\n  \nBuy Tickets
URL:https://friedmanhospitalitygroup.com/event/river-street-jazz-cafe-big-shrimp/
LOCATION:River Street Jazz Cafe\, Cross Valley Center 667 S. River St.\, Plains\, PA\, 18705\, United States
CATEGORIES:Live Music,River Street Jazz Cafe
ATTACH;FMTTYPE=image/jpeg:https://friedmanhospitalitygroup.com/wp-content/uploads/2026/03/Flyer-Story.jpg
END:VEVENT
BEGIN:VEVENT
DTSTART;TZID=America/New_York:20260529T183000
DTEND;TZID=America/New_York:20260529T223000
DTSTAMP:20260424T092642
CREATED:20260415T135638Z
LAST-MODIFIED:20260415T135638Z
UID:9523-1780079400-1780093800@friedmanhospitalitygroup.com
SUMMARY:River Street Jazz Cafe - The Wildmans
DESCRIPTION:Friday\, May 29th 2026 The Wildmans will be performing at The Jazz w/The Reverent Marigold\, Sparrow Smith\, & Sarah Fiore. Hosted by Alex Iverson!! \n  \n\nDOORS OPEN AT 6:30PM\nTICKETS ARE $15 IN ADVANCE & $25 DAY OF SHOW AND CAN BE PURCHASED AT THE LINK BELOW\nPlease Note\, online ticket sales end 24 hours before doors open. Unless a show is listed as “sold out”\, tickets can be purchased at the door.\nYOU MUST BE 21 YEARS OR OLDER TO ATTEND.\n\n  \nBuy Tickets
URL:https://friedmanhospitalitygroup.com/event/river-street-jazz-cafe-the-wildmans/
LOCATION:River Street Jazz Cafe\, Cross Valley Center 667 S. River St.\, Plains\, PA\, 18705\, United States
CATEGORIES:Live Music,River Street Jazz Cafe
ATTACH;FMTTYPE=image/jpeg:https://friedmanhospitalitygroup.com/wp-content/uploads/2026/04/IMG_1382.jpg
END:VEVENT
BEGIN:VEVENT
DTSTART;TZID=America/New_York:20260530T200000
DTEND;TZID=America/New_York:20260530T233000
DTSTAMP:20260424T092642
CREATED:20260415T140017Z
LAST-MODIFIED:20260415T140017Z
UID:9525-1780171200-1780183800@friedmanhospitalitygroup.com
SUMMARY:River Street Jazz Cafe - Adult Prom Night
DESCRIPTION:✨💃🕺 ADULT PROM 2026 IS HERE! 🕺💃✨ Mark your calendars for Saturday\, May 30th and get ready to relive prom night… but make it WAY better. \n  \nThink you know prom? Think again.  \n  \nHere’s what’s waiting for you: \n💎 Glamorous entrance — Dress to impress and show OUT \n📸 Free prom photos — No awkward teen smiles this time \n🍹 Spiked punch — Because this is an ADULT prom \n🎶 Music by Phat Beatz — PA’s best DJ party crew bringing the vibes all night \n👑 Prom King & Queen Crowning — Plus a full court with crowns & sashes! \n  \nWhere? The River Street Jazz Cafe in Wilkes-Barre\, PA. \n  \nWhether your original prom was unforgettable… or something you’d rather forget 😅 — this is your SECOND CHANCE to do it right. \n  \n✨ And yes… this time\, you can drink 😉 \n  \nGrab your friends\, plan your outfits\, and get ready to dance the night away! \n  \nLimited amount of discount tickets are available now! \n  \nTickets sell out fast for this! Get ’em quick
URL:https://friedmanhospitalitygroup.com/event/river-street-jazz-cafe-adult-prom-night/
LOCATION:River Street Jazz Cafe\, Cross Valley Center 667 S. River St.\, Plains\, PA\, 18705\, United States
CATEGORIES:Live Music,River Street Jazz Cafe
ATTACH;FMTTYPE=image/jpeg:https://friedmanhospitalitygroup.com/wp-content/uploads/2026/04/AdultProm2.jpg
END:VEVENT
END:VCALENDAR