BEGIN:VCALENDAR
VERSION:2.0
PRODID:-//Friedman Hospitality Group - ECPv6.15.17//NONSGML v1.0//EN
CALSCALE:GREGORIAN
METHOD:PUBLISH
X-ORIGINAL-URL:https://friedmanhospitalitygroup.com
X-WR-CALDESC:Events for Friedman Hospitality Group
REFRESH-INTERVAL;VALUE=DURATION:PT1H
X-Robots-Tag:noindex
X-PUBLISHED-TTL:PT1H
BEGIN:VTIMEZONE
TZID:America/New_York
BEGIN:DAYLIGHT
TZOFFSETFROM:-0500
TZOFFSETTO:-0400
TZNAME:EDT
DTSTART:20250309T070000
END:DAYLIGHT
BEGIN:STANDARD
TZOFFSETFROM:-0400
TZOFFSETTO:-0500
TZNAME:EST
DTSTART:20251102T060000
END:STANDARD
BEGIN:DAYLIGHT
TZOFFSETFROM:-0500
TZOFFSETTO:-0400
TZNAME:EDT
DTSTART:20260308T070000
END:DAYLIGHT
BEGIN:STANDARD
TZOFFSETFROM:-0400
TZOFFSETTO:-0500
TZNAME:EST
DTSTART:20261101T060000
END:STANDARD
BEGIN:DAYLIGHT
TZOFFSETFROM:-0500
TZOFFSETTO:-0400
TZNAME:EDT
DTSTART:20270314T070000
END:DAYLIGHT
BEGIN:STANDARD
TZOFFSETFROM:-0400
TZOFFSETTO:-0500
TZNAME:EST
DTSTART:20271107T060000
END:STANDARD
END:VTIMEZONE
BEGIN:VEVENT
DTSTART;TZID=America/New_York:20260306T190000
DTEND;TZID=America/New_York:20260306T223000
DTSTAMP:20260422T084050
CREATED:20260227T172947Z
LAST-MODIFIED:20260227T173110Z
UID:9036-1772823600-1772836200@friedmanhospitalitygroup.com
SUMMARY:River Street Jazz Cafe - Dirty Grass Players
DESCRIPTION:DOORS OPEN AT 7:00PM\nTICKETS ARE $20 IN ADVANCE & $25 DAY OF SHOW AND CAN BE PURCHASED AT THE LINK BELOW\nPlease Note\, online ticket sales end 24 hours before doors open. Unless a show is listed as “sold out”\, tickets can be purchased at the door.\nYOU MUST BE 21 YEARS OR OLDER TO ATTEND.\n\n  \nBuy Tickets
URL:https://friedmanhospitalitygroup.com/event/river-street-jazz-cafe-dirty-grass-players/
LOCATION:River Street Jazz Cafe\, Cross Valley Center 667 S. River St.\, Plains\, PA\, 18705\, United States
CATEGORIES:Live Music,River Street Jazz Cafe
ATTACH;FMTTYPE=image/jpeg:https://friedmanhospitalitygroup.com/wp-content/uploads/2026/02/dirty-grass-players.jpg
END:VEVENT
BEGIN:VEVENT
DTSTART;TZID=America/New_York:20260307T200000
DTEND;TZID=America/New_York:20260307T233000
DTSTAMP:20260422T084050
CREATED:20260129T180026Z
LAST-MODIFIED:20260129T180026Z
UID:8683-1772913600-1772926200@friedmanhospitalitygroup.com
SUMMARY:River Street Jazz Cafe - Bark at the Moon: Ozzy Tribute
DESCRIPTION:Saturday\, February 28th 2026 Msjr will be performing at The Jazz!! \n\nDOORS OPEN AT 8:00PM\nTICKETS ARE $5 IN ADVANCE AND $10 DAY OF SHOW AND CAN BE PURCHASED AT THE LINK BELOW\nPlease Note\, online ticket sales end 24 hours before doors open. Unless a show is listed as “sold out”\, tickets can be purchased at the door.\nYOU MUST BE 21 YEARS OR OLDER TO ATTEND.\n\n  \nBuy Tickets
URL:https://friedmanhospitalitygroup.com/event/river-street-jazz-cafe-bark-at-the-moon-ozzy-tribute-2/
LOCATION:River Street Jazz Cafe\, Cross Valley Center 667 S. River St.\, Plains\, PA\, 18705\, United States
CATEGORIES:Live Music,River Street Jazz Cafe
ATTACH;FMTTYPE=image/jpeg:https://friedmanhospitalitygroup.com/wp-content/uploads/2026/01/IMG_0366.jpg
END:VEVENT
BEGIN:VEVENT
DTSTART;TZID=America/New_York:20260313T200000
DTEND;TZID=America/New_York:20260313T233000
DTSTAMP:20260422T084050
CREATED:20260129T180456Z
LAST-MODIFIED:20260129T180456Z
UID:8685-1773432000-1773444600@friedmanhospitalitygroup.com
SUMMARY:River Street Jazz Cafe - J.WAIL ft members of STS9\, Cool Cool Cool\, Mihali Band
DESCRIPTION:Saturday\, February 28th 2026 Msjr will be performing at The Jazz!!\n\nDOORS OPEN AT 8:00PM\nTICKETS ARE $5 IN ADVANCE AND $10 DAY OF SHOW AND CAN BE PURCHASED AT THE LINK BELOW\nPlease Note\, online ticket sales end 24 hours before doors open. Unless a show is listed as “sold out”\, tickets can be purchased at the door.\nYOU MUST BE 21 YEARS OR OLDER TO ATTEND.\n\n  \nBuy Tickets
URL:https://friedmanhospitalitygroup.com/event/river-street-jazz-cafe-j-wail-ft-members-of-sts9-cool-cool-cool-mihali-band/
LOCATION:River Street Jazz Cafe\, Cross Valley Center 667 S. River St.\, Plains\, PA\, 18705\, United States
CATEGORIES:Live Music,River Street Jazz Cafe
ATTACH;FMTTYPE=image/jpeg:https://friedmanhospitalitygroup.com/wp-content/uploads/2026/01/jwail2026313-scaled-1.jpg
END:VEVENT
BEGIN:VEVENT
DTSTART;TZID=America/New_York:20260314T193000
DTEND;TZID=America/New_York:20260314T233000
DTSTAMP:20260422T084050
CREATED:20260227T173449Z
LAST-MODIFIED:20260227T173449Z
UID:9038-1773516600-1773531000@friedmanhospitalitygroup.com
SUMMARY:River Street Jazz Cafe - The Flams\, Joe Burke & Co.\, & Rosary Guild
DESCRIPTION:DOORS OPEN AT 7:30PM\nTICKETS ARE $10 IN ADVANCE AND $15 DAY OF SHOW AND CAN BE PURCHASED AT THE LINK BELOW\nPlease Note\, online ticket sales end 24 hours before doors open. Unless a show is listed as “sold out”\, tickets can be purchased at the door.\nYOU MUST BE 21 YEARS OR OLDER TO ATTEND.\n\n  \nBuy Tickets
URL:https://friedmanhospitalitygroup.com/event/river-street-jazz-cafe-the-flams-joe-burke-co-rosary-guild/
LOCATION:River Street Jazz Cafe\, Cross Valley Center 667 S. River St.\, Plains\, PA\, 18705\, United States
CATEGORIES:Live Music,River Street Jazz Cafe
ATTACH;FMTTYPE=image/jpeg:https://friedmanhospitalitygroup.com/wp-content/uploads/2026/02/imagepng_0.jpg
END:VEVENT
BEGIN:VEVENT
DTSTART;TZID=America/New_York:20260320T183000
DTEND;TZID=America/New_York:20260320T223000
DTSTAMP:20260422T084050
CREATED:20260227T173746Z
LAST-MODIFIED:20260227T173816Z
UID:9040-1774031400-1774045800@friedmanhospitalitygroup.com
SUMMARY:River Street Jazz Cafe - Disco Benefit Show
DESCRIPTION:Friday\, March 20th 2026 Come out to the Disco Benefit Show To support Seana Schweizer’s breast cancer treatment. Featuring performances by Brendan Brisk Band\, Cowboy Pills\, and Jordan Ramirez of The Tribe \n  \n\nDOORS OPEN AT 6:30PM\nTICKETS ARE A $10 DONATION AND CAN BE PURCHASED AT THE LINK BELOW\nPlease Note\, online ticket sales end 24 hours before doors open. Unless a show is listed as “sold out”\, tickets can be purchased at the door.\nYOU MUST BE 21 YEARS OR OLDER TO ATTEND.\n\n  \nBuy Tickets
URL:https://friedmanhospitalitygroup.com/event/river-street-jazz-cafe-disco-benefit-show/
LOCATION:River Street Jazz Cafe\, Cross Valley Center 667 S. River St.\, Plains\, PA\, 18705\, United States
CATEGORIES:Live Music,River Street Jazz Cafe
ATTACH;FMTTYPE=image/jpeg:https://friedmanhospitalitygroup.com/wp-content/uploads/2026/02/disco-benefit-show.jpg
END:VEVENT
BEGIN:VEVENT
DTSTART;TZID=America/New_York:20260321T200000
DTEND;TZID=America/New_York:20260321T233000
DTSTAMP:20260422T084050
CREATED:20260209T193141Z
LAST-MODIFIED:20260209T193141Z
UID:8830-1774123200-1774135800@friedmanhospitalitygroup.com
SUMMARY:River Street Jazz Cafe - Mephiskapheles
DESCRIPTION:Saturday\, March 21st 2026 Mephiskapheles will be performing at The Jazz w/The Abruptors\, Jokers Republic\, & the Squanches!! \n  \n\nDOORS OPEN AT 8:00PM\nTICKETS ARE $18 IN ADVANCE AND $22 DAY OF SHOW AND CAN BE PURCHASED AT THE LINK BELOW\nPlease Note\, online ticket sales end 24 hours before doors open. Unless a show is listed as “sold out”\, tickets can be purchased at the door.\nYOU MUST BE 21 YEARS OR OLDER TO ATTEND.\n\n  \nBuy Tickets
URL:https://friedmanhospitalitygroup.com/event/river-street-jazz-cafe-mephiskapheles/
LOCATION:River Street Jazz Cafe\, Cross Valley Center 667 S. River St.\, Plains\, PA\, 18705\, United States
CATEGORIES:Live Music,River Street Jazz Cafe
ATTACH;FMTTYPE=image/jpeg:https://friedmanhospitalitygroup.com/wp-content/uploads/2026/01/IMG_9399-1.jpg
END:VEVENT
BEGIN:VEVENT
DTSTART;TZID=America/New_York:20260327T200000
DTEND;TZID=America/New_York:20260327T233000
DTSTAMP:20260422T084050
CREATED:20260309T182114Z
LAST-MODIFIED:20260309T182332Z
UID:9119-1774641600-1774654200@friedmanhospitalitygroup.com
SUMMARY:River Street Jazz Cafe - Peak
DESCRIPTION:DOORS OPEN AT 8:00PM\nTICKETS ARE $10 AND CAN BE PURCHASED AT THE LINK BELOW\nPlease Note\, online ticket sales end 24 hours before doors open. Unless a show is listed as “sold out”\, tickets can be purchased at the door.\nYOU MUST BE 21 YEARS OR OLDER TO ATTEND.\n\n  \nBuy Tickets \n\n\nPeak is a Brooklyn-based jam quartet formed around 2016 by guitarist/songwriter Jeremy Hilliard\, known for their blend of psychedelic indie funk and exploratory\, danceable improv rock. Featuring members from the jam scene\, they have released albums like Electric Bouquet and Choppy Water\, with influences ranging from The Grateful Dead to James Brown. \nDoors at 8 \n$10 ticket \nTickets are available at door day of show. \nMust be 21 \nKitchen open late \n1/2 off drafts 8-9
URL:https://friedmanhospitalitygroup.com/event/river-street-jazz-cafe-peak/
LOCATION:River Street Jazz Cafe\, Cross Valley Center 667 S. River St.\, Plains\, PA\, 18705\, United States
CATEGORIES:Live Music,River Street Jazz Cafe
ATTACH;FMTTYPE=image/jpeg:https://friedmanhospitalitygroup.com/wp-content/uploads/2026/03/IMG_0958.jpg
END:VEVENT
BEGIN:VEVENT
DTSTART;TZID=America/New_York:20260328T200000
DTEND;TZID=America/New_York:20260328T233000
DTSTAMP:20260422T084050
CREATED:20260209T193455Z
LAST-MODIFIED:20260209T193455Z
UID:8831-1774728000-1774740600@friedmanhospitalitygroup.com
SUMMARY:River Street Jazz Cafe - Souled Out / 8 piece R&B
DESCRIPTION:On Saturday\, March 28th\, 2026\, Souled Out will be performing at The River Street Jazz Cafe\, playing all of your favorite classics! \n  \n\nDoors open at 6:00 pm for dinner\, with the show kicking off at 8:00 pm.\nTickets are $10 ADV – $12 DOS and are available at the link below.\nYou must be 21 years or older to attend.\n\n  \nBuy Tickets
URL:https://friedmanhospitalitygroup.com/event/river-street-jazz-cafe-souled-out-8-piece-rb-2/
LOCATION:River Street Jazz Cafe\, Cross Valley Center 667 S. River St.\, Plains\, PA\, 18705\, United States
CATEGORIES:Live Music,River Street Jazz Cafe
ATTACH;FMTTYPE=image/jpeg:https://friedmanhospitalitygroup.com/wp-content/uploads/2026/01/Souled-Out.jpg
END:VEVENT
END:VCALENDAR