BEGIN:VCALENDAR
VERSION:2.0
PRODID:-//Friedman Hospitality Group - ECPv6.15.17//NONSGML v1.0//EN
CALSCALE:GREGORIAN
METHOD:PUBLISH
X-ORIGINAL-URL:https://friedmanhospitalitygroup.com
X-WR-CALDESC:Events for Friedman Hospitality Group
REFRESH-INTERVAL;VALUE=DURATION:PT1H
X-Robots-Tag:noindex
X-PUBLISHED-TTL:PT1H
BEGIN:VTIMEZONE
TZID:America/New_York
BEGIN:DAYLIGHT
TZOFFSETFROM:-0500
TZOFFSETTO:-0400
TZNAME:EDT
DTSTART:20240310T070000
END:DAYLIGHT
BEGIN:STANDARD
TZOFFSETFROM:-0400
TZOFFSETTO:-0500
TZNAME:EST
DTSTART:20241103T060000
END:STANDARD
BEGIN:DAYLIGHT
TZOFFSETFROM:-0500
TZOFFSETTO:-0400
TZNAME:EDT
DTSTART:20250309T070000
END:DAYLIGHT
BEGIN:STANDARD
TZOFFSETFROM:-0400
TZOFFSETTO:-0500
TZNAME:EST
DTSTART:20251102T060000
END:STANDARD
BEGIN:DAYLIGHT
TZOFFSETFROM:-0500
TZOFFSETTO:-0400
TZNAME:EDT
DTSTART:20260308T070000
END:DAYLIGHT
BEGIN:STANDARD
TZOFFSETFROM:-0400
TZOFFSETTO:-0500
TZNAME:EST
DTSTART:20261101T060000
END:STANDARD
BEGIN:DAYLIGHT
TZOFFSETFROM:-0500
TZOFFSETTO:-0400
TZNAME:EDT
DTSTART:20270314T070000
END:DAYLIGHT
BEGIN:STANDARD
TZOFFSETFROM:-0400
TZOFFSETTO:-0500
TZNAME:EST
DTSTART:20271107T060000
END:STANDARD
END:VTIMEZONE
BEGIN:VEVENT
DTSTART;TZID=America/New_York:20251127T120000
DTEND;TZID=America/New_York:20251127T170000
DTSTAMP:20260419T133849
CREATED:20251024T164344Z
LAST-MODIFIED:20251127T174313Z
UID:7524-1764244800-1764262800@friedmanhospitalitygroup.com
SUMMARY:Bank + Vine – Thanksgiving Day
DESCRIPTION:
URL:https://friedmanhospitalitygroup.com/event/bank-vine-thanksgiving-day/
LOCATION:Bank+Vine\, 268 S. Main St.\, Wilkes-Barre\, PA\, 18701\, United States
CATEGORIES:Bank+Vine,HOLIDAY
ATTACH;FMTTYPE=image/jpeg:https://friedmanhospitalitygroup.com/wp-content/uploads/2025/11/BV-Family-Style-Thanksgiving-ScVQoM.jpg
END:VEVENT
BEGIN:VEVENT
DTSTART;TZID=America/New_York:20251211T183000
DTEND;TZID=America/New_York:20251211T210000
DTSTAMP:20260419T133850
CREATED:20251127T174313Z
LAST-MODIFIED:20251130T174413Z
UID:8011-1765477800-1765486800@friedmanhospitalitygroup.com
SUMMARY:Bank + Vine – 6 Course Chef’s Dinner
DESCRIPTION:
URL:https://friedmanhospitalitygroup.com/event/bank-vine-6-course-chefs-dinner/
LOCATION:Bank+Vine\, 268 S. Main St.\, Wilkes-Barre\, PA\, 18701\, United States
CATEGORIES:Bank+Vine,Themed Dinner
ATTACH;FMTTYPE=image/jpeg:https://friedmanhospitalitygroup.com/wp-content/uploads/2025/11/bv-chefs-dinner-pdf-qKLZaN.jpg
END:VEVENT
BEGIN:VEVENT
DTSTART;TZID=America/New_York:20251224T160000
DTEND;TZID=America/New_York:20251224T210000
DTSTAMP:20260419T133850
CREATED:20251204T174313Z
LAST-MODIFIED:20251224T182816Z
UID:8078-1766592000-1766610000@friedmanhospitalitygroup.com
SUMMARY:Bank + Vine – Holiday Hours
DESCRIPTION:
URL:https://friedmanhospitalitygroup.com/event/bank-vine-holiday-hours/
LOCATION:Bank+Vine\, 268 S. Main St.\, Wilkes-Barre\, PA\, 18701\, United States
CATEGORIES:Bank+Vine,HOLIDAY
ATTACH;FMTTYPE=image/jpeg:https://friedmanhospitalitygroup.com/wp-content/uploads/2025/12/BV-15P4Sl.jpg
END:VEVENT
BEGIN:VEVENT
DTSTART;TZID=America/New_York:20251231T160000
DTEND;TZID=America/New_York:20251231T210000
DTSTAMP:20260419T133850
CREATED:20251205T174323Z
LAST-MODIFIED:20251231T184327Z
UID:8098-1767196800-1767214800@friedmanhospitalitygroup.com
SUMMARY:Bank + Vine – Holiday Hours
DESCRIPTION:
URL:https://friedmanhospitalitygroup.com/event/bank-vine-holiday-hours-2/
LOCATION:Bank+Vine\, 268 S. Main St.\, Wilkes-Barre\, PA\, 18701\, United States
CATEGORIES:Bank+Vine,HOLIDAY
ATTACH;FMTTYPE=image/jpeg:https://friedmanhospitalitygroup.com/wp-content/uploads/2025/12/BV-15P4Sl.jpg
END:VEVENT
BEGIN:VEVENT
DTSTART;TZID=America/New_York:20260116T170000
DTEND;TZID=America/New_York:20260116T220000
DTSTAMP:20260419T133850
CREATED:20260114T125858Z
LAST-MODIFIED:20260116T125847Z
UID:8422-1768582800-1768600800@friedmanhospitalitygroup.com
SUMMARY:Bank + Vine  – Girl Dinner
DESCRIPTION:
URL:https://friedmanhospitalitygroup.com/event/bank-vine-girl-dinner-30/
LOCATION:Bank+Vine\, 268 S. Main St.\, Wilkes-Barre\, PA\, 18701\, United States
CATEGORIES:Bank+Vine,Girl Dinner
ATTACH;FMTTYPE=image/jpeg:https://friedmanhospitalitygroup.com/wp-content/uploads/2026/01/610946787_1475157274617245_1866167732244421555_n-YnhRFI.jpg
END:VEVENT
BEGIN:VEVENT
DTSTART;TZID=America/New_York:20260123T170000
DTEND;TZID=America/New_York:20260123T220000
DTSTAMP:20260419T133850
CREATED:20260114T125900Z
LAST-MODIFIED:20260123T131356Z
UID:8424-1769187600-1769205600@friedmanhospitalitygroup.com
SUMMARY:Bank + Vine  – Girl Dinner
DESCRIPTION:
URL:https://friedmanhospitalitygroup.com/event/bank-vine-girl-dinner-31/
LOCATION:Bank+Vine\, 268 S. Main St.\, Wilkes-Barre\, PA\, 18701\, United States
CATEGORIES:Bank+Vine,Girl Dinner
ATTACH;FMTTYPE=image/jpeg:https://friedmanhospitalitygroup.com/wp-content/uploads/2026/01/610946787_1475157274617245_1866167732244421555_n-YnhRFI.jpg
END:VEVENT
BEGIN:VEVENT
DTSTART;TZID=America/New_York:20260130T170000
DTEND;TZID=America/New_York:20260130T220000
DTSTAMP:20260419T133850
CREATED:20260114T125900Z
LAST-MODIFIED:20260130T132830Z
UID:8425-1769792400-1769810400@friedmanhospitalitygroup.com
SUMMARY:Bank + Vine  – Girl Dinner
DESCRIPTION:
URL:https://friedmanhospitalitygroup.com/event/bank-vine-girl-dinner-32/
LOCATION:Bank+Vine\, 268 S. Main St.\, Wilkes-Barre\, PA\, 18701\, United States
CATEGORIES:Bank+Vine,Girl Dinner
ATTACH;FMTTYPE=image/jpeg:https://friedmanhospitalitygroup.com/wp-content/uploads/2026/01/610946787_1475157274617245_1866167732244421555_n-YnhRFI.jpg
END:VEVENT
BEGIN:VEVENT
DTSTART;TZID=America/New_York:20260206T160000
DTEND;TZID=America/New_York:20260206T210000
DTSTAMP:20260419T133850
CREATED:20260121T131336Z
LAST-MODIFIED:20260206T132832Z
UID:8502-1770393600-1770411600@friedmanhospitalitygroup.com
SUMMARY:Bank + Vine  – Girl Dinner
DESCRIPTION:
URL:https://friedmanhospitalitygroup.com/event/bank-vine-girl-dinner-35/
LOCATION:Bank+Vine\, 268 S. Main St.\, Wilkes-Barre\, PA\, 18701\, United States
CATEGORIES:Bank+Vine
ATTACH;FMTTYPE=image/jpeg:https://friedmanhospitalitygroup.com/wp-content/uploads/2026/01/BV-girl-dinner-february-2026-3M3DxT.jpg
END:VEVENT
BEGIN:VEVENT
DTSTART;TZID=America/New_York:20260206T170000
DTEND;TZID=America/New_York:20260206T220000
DTSTAMP:20260419T133850
CREATED:20260114T125900Z
LAST-MODIFIED:20260206T132832Z
UID:8426-1770397200-1770415200@friedmanhospitalitygroup.com
SUMMARY:Bank + Vine  – Girl Dinner
DESCRIPTION:
URL:https://friedmanhospitalitygroup.com/event/bank-vine-girl-dinner-33/
LOCATION:Bank+Vine\, 268 S. Main St.\, Wilkes-Barre\, PA\, 18701\, United States
CATEGORIES:Bank+Vine,Girl Dinner
ATTACH;FMTTYPE=image/jpeg:https://friedmanhospitalitygroup.com/wp-content/uploads/2026/01/610946787_1475157274617245_1866167732244421555_n-YnhRFI.jpg
END:VEVENT
BEGIN:VEVENT
DTSTART;TZID=America/New_York:20260208T110000
DTEND;TZID=America/New_York:20260208T150000
DTSTAMP:20260419T133850
CREATED:20260110T125819Z
LAST-MODIFIED:20260208T132900Z
UID:8390-1770548400-1770562800@friedmanhospitalitygroup.com
SUMMARY:Bank + Vine  – Galentine’s Day
DESCRIPTION:
URL:https://friedmanhospitalitygroup.com/event/bank-vine-galentines-day/
LOCATION:Bank+Vine\, 268 S. Main St.\, Wilkes-Barre\, PA\, 18701\, United States
CATEGORIES:Bank+Vine,HOLIDAY
ATTACH;FMTTYPE=image/jpeg:https://friedmanhospitalitygroup.com/wp-content/uploads/2026/01/611270703_1474161831383456_2337538915261348048_n-OjLew8.jpg
END:VEVENT
BEGIN:VEVENT
DTSTART;TZID=America/New_York:20260213T170000
DTEND;TZID=America/New_York:20260213T210000
DTSTAMP:20260419T133850
CREATED:20260121T131338Z
LAST-MODIFIED:20260213T132816Z
UID:8504-1771002000-1771016400@friedmanhospitalitygroup.com
SUMMARY:Bank + Vine  – Girl Dinner
DESCRIPTION:
URL:https://friedmanhospitalitygroup.com/event/bank-vine-girl-dinner-36/
LOCATION:Bank+Vine\, 268 S. Main St.\, Wilkes-Barre\, PA\, 18701\, United States
CATEGORIES:Bank+Vine
ATTACH;FMTTYPE=image/jpeg:https://friedmanhospitalitygroup.com/wp-content/uploads/2026/01/BV-girl-dinner-february-2026-3M3DxT.jpg
END:VEVENT
BEGIN:VEVENT
DTSTART;TZID=America/New_York:20260220T170000
DTEND;TZID=America/New_York:20260220T210000
DTSTAMP:20260419T133850
CREATED:20260121T131338Z
LAST-MODIFIED:20260220T132826Z
UID:8505-1771606800-1771621200@friedmanhospitalitygroup.com
SUMMARY:Bank + Vine  – Girl Dinner
DESCRIPTION:
URL:https://friedmanhospitalitygroup.com/event/bank-vine-girl-dinner-37/
LOCATION:Bank+Vine\, 268 S. Main St.\, Wilkes-Barre\, PA\, 18701\, United States
CATEGORIES:Bank+Vine
ATTACH;FMTTYPE=image/jpeg:https://friedmanhospitalitygroup.com/wp-content/uploads/2026/01/BV-girl-dinner-february-2026-3M3DxT.jpg
END:VEVENT
BEGIN:VEVENT
DTSTART;TZID=America/New_York:20260221T160000
DTEND;TZID=America/New_York:20260221T220000
DTSTAMP:20260419T133850
CREATED:20260205T132832Z
LAST-MODIFIED:20260221T132836Z
UID:8776-1771689600-1771711200@friedmanhospitalitygroup.com
SUMMARY:Bank + Vine  – Mussel Fest
DESCRIPTION:
URL:https://friedmanhospitalitygroup.com/event/bank-vine-mussel-fest/
LOCATION:Bank+Vine\, 268 S. Main St.\, Wilkes-Barre\, PA\, 18701\, United States
CATEGORIES:Bank+Vine
ATTACH;FMTTYPE=image/jpeg:https://friedmanhospitalitygroup.com/wp-content/uploads/2026/02/2026-save-the-date-vDDgDC.jpg
END:VEVENT
BEGIN:VEVENT
DTSTART;TZID=America/New_York:20260226T170000
DTEND;TZID=America/New_York:20260226T220000
DTSTAMP:20260419T133850
CREATED:20260205T132833Z
LAST-MODIFIED:20260226T132816Z
UID:8778-1772125200-1772143200@friedmanhospitalitygroup.com
SUMMARY:Bank + Vine  – Philly Dinner
DESCRIPTION:
URL:https://friedmanhospitalitygroup.com/event/bank-vine-philly-dinner/
LOCATION:Bank+Vine\, 268 S. Main St.\, Wilkes-Barre\, PA\, 18701\, United States
CATEGORIES:Bank+Vine,Themed Dinner
ATTACH;FMTTYPE=image/jpeg:https://friedmanhospitalitygroup.com/wp-content/uploads/2026/02/BV-philly-dinner-aaSJms.jpg
END:VEVENT
BEGIN:VEVENT
DTSTART;TZID=America/New_York:20260227T170000
DTEND;TZID=America/New_York:20260227T210000
DTSTAMP:20260419T133850
CREATED:20260121T131338Z
LAST-MODIFIED:20260227T132841Z
UID:8506-1772211600-1772226000@friedmanhospitalitygroup.com
SUMMARY:Bank + Vine  – Girl Dinner
DESCRIPTION:
URL:https://friedmanhospitalitygroup.com/event/bank-vine-girl-dinner-38/
LOCATION:Bank+Vine\, 268 S. Main St.\, Wilkes-Barre\, PA\, 18701\, United States
CATEGORIES:Bank+Vine
ATTACH;FMTTYPE=image/jpeg:https://friedmanhospitalitygroup.com/wp-content/uploads/2026/01/BV-girl-dinner-february-2026-3M3DxT.jpg
END:VEVENT
BEGIN:VEVENT
DTSTART;TZID=America/New_York:20260227T170000
DTEND;TZID=America/New_York:20260227T220000
DTSTAMP:20260419T133850
CREATED:20260114T125900Z
LAST-MODIFIED:20260225T132841Z
UID:8427-1772211600-1772229600@friedmanhospitalitygroup.com
SUMMARY:Bank + Vine  – Girl Dinner
DESCRIPTION:
URL:https://friedmanhospitalitygroup.com/event/bank-vine-girl-dinner-34/
LOCATION:Bank+Vine\, 268 S. Main St.\, Wilkes-Barre\, PA\, 18701\, United States
CATEGORIES:Bank+Vine,Girl Dinner
ATTACH;FMTTYPE=image/jpeg:https://friedmanhospitalitygroup.com/wp-content/uploads/2026/01/610946787_1475157274617245_1866167732244421555_n-YnhRFI.jpg
END:VEVENT
BEGIN:VEVENT
DTSTART;TZID=America/New_York:20260228T160000
DTEND;TZID=America/New_York:20260228T220000
DTSTAMP:20260419T133850
CREATED:20260205T132835Z
LAST-MODIFIED:20260228T134541Z
UID:8780-1772294400-1772316000@friedmanhospitalitygroup.com
SUMMARY:Bank + Vine  – Mussel Fest
DESCRIPTION:
URL:https://friedmanhospitalitygroup.com/event/bank-vine-mussel-fest-2/
LOCATION:Bank+Vine\, 268 S. Main St.\, Wilkes-Barre\, PA\, 18701\, United States
CATEGORIES:Bank+Vine
ATTACH;FMTTYPE=image/jpeg:https://friedmanhospitalitygroup.com/wp-content/uploads/2026/02/2026-save-the-date-vDDgDC.jpg
END:VEVENT
BEGIN:VEVENT
DTSTART;TZID=America/New_York:20260301T110000
DTEND;TZID=America/New_York:20260301T150000
DTSTAMP:20260419T133850
CREATED:20260114T125901Z
LAST-MODIFIED:20260301T134316Z
UID:8428-1772362800-1772377200@friedmanhospitalitygroup.com
SUMMARY:Bank + Vine  – Bridgerton Brunch
DESCRIPTION:
URL:https://friedmanhospitalitygroup.com/event/bank-vine-bridgerton-brunch/
LOCATION:Bank+Vine\, 268 S. Main St.\, Wilkes-Barre\, PA\, 18701\, United States
CATEGORIES:Bank+Vine,Brunch
ATTACH;FMTTYPE=image/jpeg:https://friedmanhospitalitygroup.com/wp-content/uploads/2026/01/613643549_1479204917545814_4305210169748576717_n-4xfv0D.jpg
END:VEVENT
BEGIN:VEVENT
DTSTART;TZID=America/New_York:20260306T170000
DTEND;TZID=America/New_York:20260306T220000
DTSTAMP:20260419T133850
CREATED:20260225T132842Z
LAST-MODIFIED:20260306T135813Z
UID:8998-1772816400-1772834400@friedmanhospitalitygroup.com
SUMMARY:Bank + Vine  – Girl Dinner
DESCRIPTION:
URL:https://friedmanhospitalitygroup.com/event/bank-vine-girl-dinner-39/
LOCATION:Bank+Vine\, 268 S. Main St.\, Wilkes-Barre\, PA\, 18701\, United States
CATEGORIES:Bank+Vine,Girl Dinner
ATTACH;FMTTYPE=image/jpeg:https://friedmanhospitalitygroup.com/wp-content/uploads/2026/02/Bv-Girl-dinner-march-2026-1-N8rCq1.jpg
END:VEVENT
BEGIN:VEVENT
DTSTART;VALUE=DATE:20260312
DTEND;VALUE=DATE:20260313
DTSTAMP:20260419T133850
CREATED:20260226T132817Z
LAST-MODIFIED:20260312T135816Z
UID:9020-1773273600-1773359999@friedmanhospitalitygroup.com
SUMMARY:Bank + Vine  – Philharmonic Discount
DESCRIPTION:
URL:https://friedmanhospitalitygroup.com/event/bank-vine-philharmonic-discount/
LOCATION:Bank+Vine\, 268 S. Main St.\, Wilkes-Barre\, PA\, 18701\, United States
CATEGORIES:Bank+Vine
ATTACH;FMTTYPE=image/png:https://friedmanhospitalitygroup.com/wp-content/uploads/2026/02/Postcards-8-4HK2HM.png
END:VEVENT
BEGIN:VEVENT
DTSTART;TZID=America/New_York:20260313T170000
DTEND;TZID=America/New_York:20260313T220000
DTSTAMP:20260419T133850
CREATED:20260225T132843Z
LAST-MODIFIED:20260313T135917Z
UID:9000-1773421200-1773439200@friedmanhospitalitygroup.com
SUMMARY:Bank + Vine  – Girl Dinner
DESCRIPTION:
URL:https://friedmanhospitalitygroup.com/event/bank-vine-girl-dinner-40/
LOCATION:Bank+Vine\, 268 S. Main St.\, Wilkes-Barre\, PA\, 18701\, United States
CATEGORIES:Bank+Vine,Girl Dinner
ATTACH;FMTTYPE=image/jpeg:https://friedmanhospitalitygroup.com/wp-content/uploads/2026/02/Bv-Girl-dinner-march-2026-1-N8rCq1.jpg
END:VEVENT
BEGIN:VEVENT
DTSTART;TZID=America/New_York:20260314T160000
DTEND;TZID=America/New_York:20260314T220000
DTSTAMP:20260419T133850
CREATED:20260224T132823Z
LAST-MODIFIED:20260314T135948Z
UID:8962-1773504000-1773525600@friedmanhospitalitygroup.com
SUMMARY:Bank + Vine  – Mussel Fest
DESCRIPTION:
URL:https://friedmanhospitalitygroup.com/event/bank-vine-mussel-fest-3/
LOCATION:Bank+Vine\, 268 S. Main St.\, Wilkes-Barre\, PA\, 18701\, United States
CATEGORIES:Bank+Vine
ATTACH;FMTTYPE=image/jpeg:https://friedmanhospitalitygroup.com/wp-content/uploads/2026/02/2026-save-the-date-vDDgDC.jpg
END:VEVENT
BEGIN:VEVENT
DTSTART;TZID=America/New_York:20260320T170000
DTEND;TZID=America/New_York:20260320T220000
DTSTAMP:20260419T133850
CREATED:20260225T132843Z
LAST-MODIFIED:20260320T202957Z
UID:9001-1774026000-1774044000@friedmanhospitalitygroup.com
SUMMARY:Bank + Vine  – Girl Dinner
DESCRIPTION:
URL:https://friedmanhospitalitygroup.com/event/bank-vine-girl-dinner-41/
LOCATION:Bank+Vine\, 268 S. Main St.\, Wilkes-Barre\, PA\, 18701\, United States
CATEGORIES:Bank+Vine,Girl Dinner
ATTACH;FMTTYPE=image/jpeg:https://friedmanhospitalitygroup.com/wp-content/uploads/2026/02/Bv-Girl-dinner-march-2026-1-N8rCq1.jpg
END:VEVENT
BEGIN:VEVENT
DTSTART;TZID=America/New_York:20260321T160000
DTEND;TZID=America/New_York:20260321T220000
DTSTAMP:20260419T133850
CREATED:20260224T132823Z
LAST-MODIFIED:20260321T202836Z
UID:8963-1774108800-1774130400@friedmanhospitalitygroup.com
SUMMARY:Bank + Vine  – Mussel Fest
DESCRIPTION:
URL:https://friedmanhospitalitygroup.com/event/bank-vine-mussel-fest-4/
LOCATION:Bank+Vine\, 268 S. Main St.\, Wilkes-Barre\, PA\, 18701\, United States
CATEGORIES:Bank+Vine
ATTACH;FMTTYPE=image/jpeg:https://friedmanhospitalitygroup.com/wp-content/uploads/2026/02/2026-save-the-date-vDDgDC.jpg
END:VEVENT
BEGIN:VEVENT
DTSTART;TZID=America/New_York:20260327T170000
DTEND;TZID=America/New_York:20260327T220000
DTSTAMP:20260419T133850
CREATED:20260225T132856Z
LAST-MODIFIED:20260327T204313Z
UID:9002-1774630800-1774648800@friedmanhospitalitygroup.com
SUMMARY:Bank + Vine  – Girl Dinner
DESCRIPTION:
URL:https://friedmanhospitalitygroup.com/event/bank-vine-girl-dinner-42/
LOCATION:Bank+Vine\, 268 S. Main St.\, Wilkes-Barre\, PA\, 18701\, United States
CATEGORIES:Bank+Vine,Girl Dinner
ATTACH;FMTTYPE=image/jpeg:https://friedmanhospitalitygroup.com/wp-content/uploads/2026/02/Bv-Girl-dinner-march-2026-1-N8rCq1.jpg
END:VEVENT
BEGIN:VEVENT
DTSTART;VALUE=DATE:20260328
DTEND;VALUE=DATE:20260329
DTSTAMP:20260419T133850
CREATED:20260116T125848Z
LAST-MODIFIED:20260328T204336Z
UID:8458-1774656000-1774742399@friedmanhospitalitygroup.com
SUMMARY:Bank + Vine  – Closed for Private Wedding
DESCRIPTION:
URL:https://friedmanhospitalitygroup.com/event/bank-vine-closed-for-private-wedding/
LOCATION:Bank+Vine\, 268 S. Main St.\, Wilkes-Barre\, PA\, 18701\, United States
CATEGORIES:Bank+Vine
ATTACH;FMTTYPE=image/jpeg:https://friedmanhospitalitygroup.com/wp-content/uploads/2026/01/MARCH-28-7xMhaj.jpg
END:VEVENT
BEGIN:VEVENT
DTSTART;TZID=America/New_York:20260328T160000
DTEND;TZID=America/New_York:20260328T220000
DTSTAMP:20260419T133850
CREATED:20260224T132837Z
LAST-MODIFIED:20260328T204336Z
UID:8964-1774713600-1774735200@friedmanhospitalitygroup.com
SUMMARY:Bank + Vine  – Mussel Fest
DESCRIPTION:
URL:https://friedmanhospitalitygroup.com/event/bank-vine-mussel-fest-5/
LOCATION:Bank+Vine\, 268 S. Main St.\, Wilkes-Barre\, PA\, 18701\, United States
CATEGORIES:Bank+Vine
ATTACH;FMTTYPE=image/jpeg:https://friedmanhospitalitygroup.com/wp-content/uploads/2026/02/2026-save-the-date-vDDgDC.jpg
END:VEVENT
BEGIN:VEVENT
DTSTART;TZID=America/New_York:20260408T170000
DTEND;TZID=America/New_York:20260408T210000
DTSTAMP:20260419T133850
CREATED:20260408T205837Z
LAST-MODIFIED:20260408T205837Z
UID:9442-1775667600-1775682000@friedmanhospitalitygroup.com
SUMMARY:Bank + Vine  – Signature Trio
DESCRIPTION:
URL:https://friedmanhospitalitygroup.com/event/bank-vine-signature-trio/
LOCATION:Bank+Vine\, 268 S. Main St.\, Wilkes-Barre\, PA\, 18701\, United States
CATEGORIES:Bank+Vine
ATTACH;FMTTYPE=image/jpeg:https://friedmanhospitalitygroup.com/wp-content/uploads/2026/04/665433185_1557756663023972_7477377618347342684_n-xFjkrz.jpg
END:VEVENT
BEGIN:VEVENT
DTSTART;TZID=America/New_York:20260409T170000
DTEND;TZID=America/New_York:20260409T210000
DTSTAMP:20260419T133850
CREATED:20260408T205838Z
LAST-MODIFIED:20260409T211327Z
UID:9444-1775754000-1775768400@friedmanhospitalitygroup.com
SUMMARY:Bank + Vine  – Poke Bowls
DESCRIPTION:
URL:https://friedmanhospitalitygroup.com/event/bank-vine-poke-bowls/
LOCATION:Bank+Vine\, 268 S. Main St.\, Wilkes-Barre\, PA\, 18701\, United States
CATEGORIES:Bank+Vine
ATTACH;FMTTYPE=image/jpeg:https://friedmanhospitalitygroup.com/wp-content/uploads/2026/04/663302882_1557782766354695_2744412495194198818_n-t4lytH.jpg
END:VEVENT
BEGIN:VEVENT
DTSTART;TZID=America/New_York:20260410T170000
DTEND;TZID=America/New_York:20260410T220000
DTSTAMP:20260419T133850
CREATED:20260408T205839Z
LAST-MODIFIED:20260410T211320Z
UID:9446-1775840400-1775858400@friedmanhospitalitygroup.com
SUMMARY:Bank + Vine  – (New Menu) Girl Dinner
DESCRIPTION:
URL:https://friedmanhospitalitygroup.com/event/bank-vine-new-menu-girl-dinner/
LOCATION:Bank+Vine\, 268 S. Main St.\, Wilkes-Barre\, PA\, 18701\, United States
CATEGORIES:Bank+Vine
ATTACH;FMTTYPE=image/jpeg:https://friedmanhospitalitygroup.com/wp-content/uploads/2026/04/668597417_1557782863021352_1746971352205326000_n-P6vj6v.jpg
END:VEVENT
END:VCALENDAR